Package: rmelting Version: 1.26.0 Command: /Library/Frameworks/R.framework/Resources/bin/R CMD INSTALL rmelting StartedAt: 2025-11-03 15:10:32 -0500 (Mon, 03 Nov 2025) EndedAt: 2025-11-03 15:11:02 -0500 (Mon, 03 Nov 2025) EllapsedTime: 30.3 seconds RetCode: 0 Status: OK