Package: rmelting Version: 1.24.0 Command: /home/biocbuild/R/R/bin/R CMD build --keep-empty-dirs --no-resave-data rmelting StartedAt: 2025-10-14 04:06:07 -0000 (Tue, 14 Oct 2025) EndedAt: 2025-10-14 04:06:39 -0000 (Tue, 14 Oct 2025) EllapsedTime: 32.0 seconds RetCode: 0 Status: OK PackageFile: rmelting_1.24.0.tar.gz PackageFileSize: 2.474 MiB