Package: rmelting Version: 1.24.0 Command: rm -rf rmelting.buildbin-libdir && mkdir rmelting.buildbin-libdir && /Users/biocbuild/BBS/utils/build-universal.sh rmelting_1.24.0.tar.gz /Library/Frameworks/R.framework/Resources/bin/R rmelting.buildbin-libdir StartedAt: 2025-04-21 22:49:21 -0400 (Mon, 21 Apr 2025) EndedAt: 2025-04-21 22:49:23 -0400 (Mon, 21 Apr 2025) EllapsedTime: 2.1 seconds RetCode: 0 Status: OK PackageFile: rmelting_1.24.0.tgz PackageFileSize: 2.431 MiB