Package: rigvf Version: 1.2.0 Command: /home/biocbuild/bbs-3.22-bioc/R/bin/R CMD build --keep-empty-dirs --no-resave-data --md5 rigvf StartedAt: 2025-11-11 19:46:45 -0500 (Tue, 11 Nov 2025) EndedAt: 2025-11-11 19:47:15 -0500 (Tue, 11 Nov 2025) EllapsedTime: 30.0 seconds RetCode: 0 Status: OK PackageFile: rigvf_1.2.0.tar.gz PackageFileSize: 211.2 KiB