Package: rigvf Version: 1.2.0 Command: /Library/Frameworks/R.framework/Resources/bin/R CMD build --keep-empty-dirs --no-resave-data rigvf StartedAt: 2025-11-03 18:29:02 -0500 (Mon, 03 Nov 2025) EndedAt: 2025-11-03 18:29:41 -0500 (Mon, 03 Nov 2025) EllapsedTime: 38.9 seconds RetCode: 0 Status: OK PackageFile: rigvf_1.2.0.tar.gz PackageFileSize: 214.2 KiB