Package: rigvf Version: 1.2.0 Command: rm -rf rigvf.buildbin-libdir && mkdir rigvf.buildbin-libdir && /Users/biocbuild/BBS/utils/build-universal.sh rigvf_1.2.0.tar.gz /Library/Frameworks/R.framework/Resources/bin/R rigvf.buildbin-libdir StartedAt: 2025-11-04 01:59:39 -0500 (Tue, 04 Nov 2025) EndedAt: 2025-11-04 01:59:57 -0500 (Tue, 04 Nov 2025) EllapsedTime: 17.3 seconds RetCode: 0 Status: OK PackageFile: rigvf_1.2.0.tgz PackageFileSize: 240.1 KiB