Package: rigvf Version: 1.0.2 Command: /home/biocbuild/R/R/bin/R CMD build --keep-empty-dirs --no-resave-data rigvf StartedAt: 2025-10-14 04:04:42 -0000 (Tue, 14 Oct 2025) EndedAt: 2025-10-14 04:05:28 -0000 (Tue, 14 Oct 2025) EllapsedTime: 46.0 seconds RetCode: 0 Status: OK PackageFile: rigvf_1.0.2.tar.gz PackageFileSize: 209.6 KiB