Package: rifiComparative Version: 1.10.0 Command: /home/biocbuild/bbs-3.22-bioc/R/bin/R CMD INSTALL rifiComparative StartedAt: 2025-11-11 15:34:45 -0500 (Tue, 11 Nov 2025) EndedAt: 2025-11-11 15:35:20 -0500 (Tue, 11 Nov 2025) EllapsedTime: 35.0 seconds RetCode: 0 Status: OK