Package: rifiComparative Version: 1.8.0 Command: /Library/Frameworks/R.framework/Resources/bin/R CMD INSTALL rifiComparative StartedAt: 2025-04-21 15:27:04 -0400 (Mon, 21 Apr 2025) EndedAt: 2025-04-21 15:27:55 -0400 (Mon, 21 Apr 2025) EllapsedTime: 50.9 seconds RetCode: 0 Status: OK