Package: rifiComparative Version: 1.8.0 Command: /Library/Frameworks/R.framework/Resources/bin/R CMD build --keep-empty-dirs --no-resave-data rifiComparative StartedAt: 2025-04-21 18:10:42 -0400 (Mon, 21 Apr 2025) EndedAt: 2025-04-21 18:19:06 -0400 (Mon, 21 Apr 2025) EllapsedTime: 503.3 seconds RetCode: 0 Status: OK PackageFile: rifiComparative_1.8.0.tar.gz PackageFileSize: 3.149 MiB