Package: rifiComparative Version: 1.8.0 Command: /home/biocbuild/R/R/bin/R CMD build --keep-empty-dirs --no-resave-data rifiComparative StartedAt: 2025-09-30 04:36:58 -0000 (Tue, 30 Sep 2025) EndedAt: 2025-09-30 04:45:37 -0000 (Tue, 30 Sep 2025) EllapsedTime: 519.2 seconds RetCode: 0 Status: OK PackageFile: rifiComparative_1.8.0.tar.gz PackageFileSize: 3.212 MiB