Package: rifiComparative Version: 1.8.0 Command: /Library/Frameworks/R.framework/Resources/bin/R CMD build --keep-empty-dirs --no-resave-data rifiComparative StartedAt: 2025-10-14 07:52:27 -0400 (Tue, 14 Oct 2025) EndedAt: 2025-10-14 07:59:46 -0400 (Tue, 14 Oct 2025) EllapsedTime: 439.2 seconds RetCode: 0 Status: OK PackageFile: rifiComparative_1.8.0.tar.gz PackageFileSize: 3.149 MiB