Package: rifiComparative Version: 1.8.0 Command: rm -rf rifiComparative.buildbin-libdir && mkdir rifiComparative.buildbin-libdir && /Users/biocbuild/BBS/utils/build-universal.sh rifiComparative_1.8.0.tar.gz /Library/Frameworks/R.framework/Resources/bin/R rifiComparative.buildbin-libdir StartedAt: 2025-10-15 20:09:08 -0400 (Wed, 15 Oct 2025) EndedAt: 2025-10-15 20:09:53 -0400 (Wed, 15 Oct 2025) EllapsedTime: 45.1 seconds RetCode: 0 Status: OK PackageFile: rifiComparative_1.8.0.tgz PackageFileSize: 2.436 MiB