Package: rifi Version: 1.12.0 Command: /home/biocbuild/R/R/bin/R CMD INSTALL rifi StartedAt: 2025-10-13 20:41:42 -0000 (Mon, 13 Oct 2025) EndedAt: 2025-10-13 20:42:41 -0000 (Mon, 13 Oct 2025) EllapsedTime: 59.0 seconds RetCode: 0 Status: OK