Package: ribosomeProfilingQC Version: 1.22.0 Command: /home/biocbuild/R/R/bin/R CMD INSTALL ribosomeProfilingQC StartedAt: 2025-11-20 22:47:34 -0000 (Thu, 20 Nov 2025) EndedAt: 2025-11-20 22:48:45 -0000 (Thu, 20 Nov 2025) EllapsedTime: 70.9 seconds RetCode: 0 Status: OK