Package: ribosomeProfilingQC Version: 1.22.0 Command: /home/biocbuild/R/R/bin/R CMD build --keep-empty-dirs --no-resave-data ribosomeProfilingQC StartedAt: 2025-11-18 04:28:36 -0000 (Tue, 18 Nov 2025) EndedAt: 2025-11-18 04:36:11 -0000 (Tue, 18 Nov 2025) EllapsedTime: 455.4 seconds RetCode: 0 Status: OK PackageFile: ribosomeProfilingQC_1.22.0.tar.gz PackageFileSize: 2.869 MiB