Package: ribosomeProfilingQC Version: 1.22.0 Command: /home/biocbuild/bbs-3.22-bioc/R/bin/R CMD INSTALL ribosomeProfilingQC StartedAt: 2025-11-11 15:58:33 -0500 (Tue, 11 Nov 2025) EndedAt: 2025-11-11 15:59:28 -0500 (Tue, 11 Nov 2025) EllapsedTime: 54.9 seconds RetCode: 0 Status: OK