Package: ribosomeProfilingQC Version: 1.22.0 Command: /home/biocbuild/bbs-3.22-bioc/R/bin/R CMD build --keep-empty-dirs --no-resave-data --md5 ribosomeProfilingQC StartedAt: 2025-11-11 19:46:12 -0500 (Tue, 11 Nov 2025) EndedAt: 2025-11-11 19:50:38 -0500 (Tue, 11 Nov 2025) EllapsedTime: 266.2 seconds RetCode: 0 Status: OK PackageFile: ribosomeProfilingQC_1.22.0.tar.gz PackageFileSize: 3.538 MiB