Package: ribosomeProfilingQC Version: 1.20.0 Command: /home/biocbuild/bbs-3.21-bioc/R/bin/R CMD INSTALL ribosomeProfilingQC StartedAt: 2025-10-12 15:53:34 -0400 (Sun, 12 Oct 2025) EndedAt: 2025-10-12 15:54:25 -0400 (Sun, 12 Oct 2025) EllapsedTime: 51.4 seconds RetCode: 0 Status: OK