Package: ribosomeProfilingQC Version: 1.20.0 Command: /home/biocbuild/bbs-3.21-bioc/R/bin/R CMD build --keep-empty-dirs --no-resave-data ribosomeProfilingQC StartedAt: 2025-10-12 19:32:14 -0400 (Sun, 12 Oct 2025) EndedAt: 2025-10-12 19:36:37 -0400 (Sun, 12 Oct 2025) EllapsedTime: 263.3 seconds RetCode: 0 Status: OK PackageFile: ribosomeProfilingQC_1.20.0.tar.gz PackageFileSize: 3.535 MiB