Package: ribosomeProfilingQC Version: 1.20.0 Command: /Library/Frameworks/R.framework/Resources/bin/R CMD INSTALL ribosomeProfilingQC StartedAt: 2025-10-13 18:04:49 -0400 (Mon, 13 Oct 2025) EndedAt: 2025-10-13 18:05:50 -0400 (Mon, 13 Oct 2025) EllapsedTime: 61.4 seconds RetCode: 0 Status: OK