Package: ribor Version: 1.22.0 Command: /home/biocbuild/bbs-3.22-bioc/R/bin/R CMD build --keep-empty-dirs --no-resave-data --md5 ribor StartedAt: 2025-11-11 19:45:43 -0500 (Tue, 11 Nov 2025) EndedAt: 2025-11-11 19:46:45 -0500 (Tue, 11 Nov 2025) EllapsedTime: 62.0 seconds RetCode: 0 Status: OK PackageFile: ribor_1.22.0.tar.gz PackageFileSize: 4.477 MiB