Package: riboSeqR Version: 1.44.0 Command: /home/biocbuild/bbs-3.22-bioc/R/bin/R CMD build --keep-empty-dirs --no-resave-data --md5 riboSeqR StartedAt: 2025-11-11 19:45:48 -0500 (Tue, 11 Nov 2025) EndedAt: 2025-11-11 19:46:12 -0500 (Tue, 11 Nov 2025) EllapsedTime: 24.0 seconds RetCode: 0 Status: OK PackageFile: riboSeqR_1.44.0.tar.gz PackageFileSize: 3.651 MiB