Package: riboSeqR Version: 1.42.0 Command: /home/biocbuild/R/R/bin/R CMD build --keep-empty-dirs --no-resave-data riboSeqR StartedAt: 2025-10-14 04:03:21 -0000 (Tue, 14 Oct 2025) EndedAt: 2025-10-14 04:03:53 -0000 (Tue, 14 Oct 2025) EllapsedTime: 32.0 seconds RetCode: 0 Status: OK PackageFile: riboSeqR_1.42.0.tar.gz PackageFileSize: 3.645 MiB