Package: riboSeqR Version: 1.44.0 Command: /Library/Frameworks/R.framework/Resources/bin/R CMD build --keep-empty-dirs --no-resave-data riboSeqR StartedAt: 2025-10-30 17:31:15 -0400 (Thu, 30 Oct 2025) EndedAt: 2025-10-30 17:31:26 -0400 (Thu, 30 Oct 2025) EllapsedTime: 11.1 seconds RetCode: 0 Status: OK PackageFile: riboSeqR_1.44.0.tar.gz PackageFileSize: 3.649 MiB