Package: rhdf5client Version: 1.32.0 Command: /home/biocbuild/bbs-3.22-bioc/R/bin/R CMD INSTALL rhdf5client StartedAt: 2025-11-11 15:20:40 -0500 (Tue, 11 Nov 2025) EndedAt: 2025-11-11 15:20:57 -0500 (Tue, 11 Nov 2025) EllapsedTime: 17.1 seconds RetCode: 0 Status: OK