Package: rhdf5client Version: 1.32.0 Command: /home/biocbuild/bbs-3.22-bioc/R/bin/R CMD check --install=check:rhdf5client.install-out.txt --library=/home/biocbuild/bbs-3.22-bioc/R/site-library --timings rhdf5client_1.32.0.tar.gz StartedAt: 2025-11-14 03:23:08 -0500 (Fri, 14 Nov 2025) EndedAt: 2025-11-14 03:25:25 -0500 (Fri, 14 Nov 2025) EllapsedTime: 137.2 seconds RetCode: 0 Status: OK CheckDir: rhdf5client.Rcheck Warnings: 0