Package: rhdf5client Version: 1.32.0 Command: /home/biocbuild/bbs-3.22-bioc/R/bin/R CMD build --keep-empty-dirs --no-resave-data --md5 rhdf5client StartedAt: 2025-11-11 19:44:12 -0500 (Tue, 11 Nov 2025) EndedAt: 2025-11-11 19:44:40 -0500 (Tue, 11 Nov 2025) EllapsedTime: 28.0 seconds RetCode: 0 Status: OK PackageFile: rhdf5client_1.32.0.tar.gz PackageFileSize: 534.9 KiB