Package: rhdf5client Version: 1.30.1 Command: /home/biocbuild/bbs-3.21-bioc/R/bin/R CMD INSTALL rhdf5client StartedAt: 2025-10-15 15:15:42 -0400 (Wed, 15 Oct 2025) EndedAt: 2025-10-15 15:16:00 -0400 (Wed, 15 Oct 2025) EllapsedTime: 17.7 seconds RetCode: 0 Status: OK