Package: rhdf5client Version: 1.30.1 Command: /home/biocbuild/bbs-3.21-bioc/R/bin/R CMD build --keep-empty-dirs --no-resave-data rhdf5client StartedAt: 2025-10-15 19:28:08 -0400 (Wed, 15 Oct 2025) EndedAt: 2025-10-15 19:28:36 -0400 (Wed, 15 Oct 2025) EllapsedTime: 28.0 seconds RetCode: 0 Status: OK PackageFile: rhdf5client_1.30.1.tar.gz PackageFileSize: 532.6 KiB