Package: rhdf5client Version: 1.30.0 Command: /home/biocbuild/R/R/bin/R CMD build --keep-empty-dirs --no-resave-data rhdf5client StartedAt: 2025-09-30 04:34:15 -0000 (Tue, 30 Sep 2025) EndedAt: 2025-09-30 04:34:52 -0000 (Tue, 30 Sep 2025) EllapsedTime: 37.0 seconds RetCode: 0 Status: OK PackageFile: rhdf5client_1.30.0.tar.gz PackageFileSize: 559.1 KiB