Package: rhdf5client Version: 1.30.1 Command: /Library/Frameworks/R.framework/Resources/bin/R CMD INSTALL rhdf5client StartedAt: 2025-10-13 15:43:09 -0400 (Mon, 13 Oct 2025) EndedAt: 2025-10-13 15:43:32 -0400 (Mon, 13 Oct 2025) EllapsedTime: 22.9 seconds RetCode: 0 Status: OK