Package: rhdf5client Version: 1.30.1 Command: /Library/Frameworks/R.framework/Resources/bin/R CMD build --keep-empty-dirs --no-resave-data rhdf5client StartedAt: 2025-10-14 07:44:45 -0400 (Tue, 14 Oct 2025) EndedAt: 2025-10-14 07:45:24 -0400 (Tue, 14 Oct 2025) EllapsedTime: 38.9 seconds RetCode: 0 Status: OK PackageFile: rhdf5client_1.30.1.tar.gz PackageFileSize: 532.2 KiB