Package: rhdf5client Version: 1.30.1 Command: rm -rf rhdf5client.buildbin-libdir && mkdir rhdf5client.buildbin-libdir && /Users/biocbuild/BBS/utils/build-universal.sh rhdf5client_1.30.1.tar.gz /Library/Frameworks/R.framework/Resources/bin/R rhdf5client.buildbin-libdir StartedAt: 2025-10-15 20:05:31 -0400 (Wed, 15 Oct 2025) EndedAt: 2025-10-15 20:05:57 -0400 (Wed, 15 Oct 2025) EllapsedTime: 25.6 seconds RetCode: 0 Status: OK PackageFile: rhdf5client_1.30.1.tgz PackageFileSize: 983.4 KiB