Package: rhdf5client Version: 1.32.0 Maintainer: Alexey Sergushichev MaintainerEmail: alsergbox at gmail.com git_url: https://git.bioconductor.org/packages/rhdf5client git_branch: RELEASE_3_22 git_last_commit: 425507e git_last_commit_date: 2025-10-29 10:41:39 -0400 (Wed, 29 Oct 2025)