Package: rhdf5 Version: 2.54.0 Command: /home/biocbuild/bbs-3.22-bioc/R/bin/R CMD INSTALL rhdf5 StartedAt: 2025-11-11 15:11:04 -0500 (Tue, 11 Nov 2025) EndedAt: 2025-11-11 15:11:49 -0500 (Tue, 11 Nov 2025) EllapsedTime: 44.8 seconds RetCode: 0 Status: OK