Package: rhdf5 Version: 2.54.0 Command: /home/biocbuild/bbs-3.22-bioc/R/bin/R CMD build --keep-empty-dirs --no-resave-data --md5 rhdf5 StartedAt: 2025-11-11 19:44:07 -0500 (Tue, 11 Nov 2025) EndedAt: 2025-11-11 19:49:32 -0500 (Tue, 11 Nov 2025) EllapsedTime: 325.2 seconds RetCode: 0 Status: OK PackageFile: rhdf5_2.54.0.tar.gz PackageFileSize: 1.254 MiB