Package: rhdf5 Version: 2.54.0 Command: /Library/Frameworks/R.framework/Resources/bin/R CMD build --keep-empty-dirs --no-resave-data rhdf5 StartedAt: 2025-11-10 17:30:53 -0500 (Mon, 10 Nov 2025) EndedAt: 2025-11-10 17:31:23 -0500 (Mon, 10 Nov 2025) EllapsedTime: 30.3 seconds RetCode: 0 Status: OK PackageFile: rhdf5_2.54.0.tar.gz PackageFileSize: 1.207 MiB