Package: rhdf5 Version: 2.54.0 Command: rm -rf rhdf5.buildbin-libdir && mkdir rhdf5.buildbin-libdir && /Users/biocbuild/BBS/utils/build-universal.sh rhdf5_2.54.0.tar.gz /Library/Frameworks/R.framework/Resources/bin/R rhdf5.buildbin-libdir StartedAt: 2025-11-10 23:33:24 -0500 (Mon, 10 Nov 2025) EndedAt: 2025-11-10 23:33:32 -0500 (Mon, 10 Nov 2025) EllapsedTime: 8.1 seconds RetCode: 0 Status: OK PackageFile: rhdf5_2.54.0.tgz PackageFileSize: 4.567 MiB