Package: rfaRm Version: 1.22.0 Command: /home/biocbuild/R/R/bin/R CMD INSTALL rfaRm StartedAt: 2025-11-20 22:27:54 -0000 (Thu, 20 Nov 2025) EndedAt: 2025-11-20 22:28:11 -0000 (Thu, 20 Nov 2025) EllapsedTime: 16.9 seconds RetCode: 0 Status: OK