Package: rfaRm Version: 1.22.0 Command: /home/biocbuild/R/R/bin/R CMD build --keep-empty-dirs --no-resave-data rfaRm StartedAt: 2025-11-21 05:10:20 -0000 (Fri, 21 Nov 2025) EndedAt: 2025-11-21 05:50:21 -0000 (Fri, 21 Nov 2025) EllapsedTime: 2400.9 seconds RetCode: None Status: TIMEOUT PackageFile: None PackageFileSize: NA