Package: rfaRm Version: 1.20.0 Command: /home/biocbuild/bbs-3.21-bioc/R/bin/R CMD INSTALL rfaRm StartedAt: 2025-10-01 15:38:40 -0400 (Wed, 01 Oct 2025) EndedAt: 2025-10-01 15:38:53 -0400 (Wed, 01 Oct 2025) EllapsedTime: 12.6 seconds RetCode: 0 Status: OK