Package: rfaRm Version: 1.20.0 Command: /home/biocbuild/bbs-3.21-bioc/R/bin/R CMD build --keep-empty-dirs --no-resave-data rfaRm StartedAt: 2025-10-01 19:31:27 -0400 (Wed, 01 Oct 2025) EndedAt: 2025-10-01 19:32:15 -0400 (Wed, 01 Oct 2025) EllapsedTime: 48.1 seconds RetCode: 0 Status: OK PackageFile: rfaRm_1.20.0.tar.gz PackageFileSize: 760.3 KiB