Package: rfaRm Version: 1.20.0 Command: /Library/Frameworks/R.framework/Resources/bin/R CMD INSTALL rfaRm StartedAt: 2025-10-02 16:00:10 -0400 (Thu, 02 Oct 2025) EndedAt: 2025-10-02 16:00:25 -0400 (Thu, 02 Oct 2025) EllapsedTime: 14.1 seconds RetCode: 0 Status: OK