Package: rfaRm Version: 1.20.0 Command: /Library/Frameworks/R.framework/Resources/bin/R CMD build --keep-empty-dirs --no-resave-data rfaRm StartedAt: 2025-10-03 07:34:09 -0400 (Fri, 03 Oct 2025) EndedAt: 2025-10-03 07:34:46 -0400 (Fri, 03 Oct 2025) EllapsedTime: 37.6 seconds RetCode: 0 Status: OK PackageFile: rfaRm_1.20.0.tar.gz PackageFileSize: 562.3 KiB