Package: rfaRm Version: 1.20.0 Command: rm -rf rfaRm.buildbin-libdir && mkdir rfaRm.buildbin-libdir && /Users/biocbuild/BBS/utils/build-universal.sh rfaRm_1.20.0.tar.gz /Library/Frameworks/R.framework/Resources/bin/R rfaRm.buildbin-libdir StartedAt: 2025-10-04 19:33:01 -0400 (Sat, 04 Oct 2025) EndedAt: 2025-10-04 19:33:18 -0400 (Sat, 04 Oct 2025) EllapsedTime: 17.0 seconds RetCode: 0 Status: OK PackageFile: rfaRm_1.20.0.tgz PackageFileSize: 598.5 KiB