Package: rfPred Version: 1.48.0 Command: /home/biocbuild/bbs-3.22-bioc/R/bin/R CMD check --install=check:rfPred.install-out.txt --library=/home/biocbuild/bbs-3.22-bioc/R/site-library --timings rfPred_1.48.0.tar.gz StartedAt: 2025-11-12 03:20:07 -0500 (Wed, 12 Nov 2025) EndedAt: 2025-11-12 03:21:33 -0500 (Wed, 12 Nov 2025) EllapsedTime: 86.1 seconds RetCode: 0 Status: OK CheckDir: rfPred.Rcheck Warnings: 0