Package: rfPred Version: 1.46.0 Command: /home/biocbuild/bbs-3.21-bioc/R/bin/R CMD INSTALL rfPred StartedAt: 2025-10-15 15:15:50 -0400 (Wed, 15 Oct 2025) EndedAt: 2025-10-15 15:16:01 -0400 (Wed, 15 Oct 2025) EllapsedTime: 11.3 seconds RetCode: 0 Status: OK