Package: rfPred Version: 1.46.0 Command: rm -rf rfPred.buildbin-libdir && mkdir rfPred.buildbin-libdir && /Users/biocbuild/BBS/utils/build-universal.sh rfPred_1.46.0.tar.gz /Library/Frameworks/R.framework/Resources/bin/R rfPred.buildbin-libdir StartedAt: 2025-04-22 01:03:44 -0400 (Tue, 22 Apr 2025) EndedAt: 2025-04-22 01:04:08 -0400 (Tue, 22 Apr 2025) EllapsedTime: 24.0 seconds RetCode: 0 Status: OK PackageFile: rfPred_1.46.0.tgz PackageFileSize: 1.076 MiB