Package: rexposome Version: 1.32.0 Command: /home/biocbuild/bbs-3.22-bioc/R/bin/R CMD build --keep-empty-dirs --no-resave-data --md5 rexposome StartedAt: 2025-11-13 19:42:19 -0500 (Thu, 13 Nov 2025) EndedAt: 2025-11-13 19:43:53 -0500 (Thu, 13 Nov 2025) EllapsedTime: 93.1 seconds RetCode: 0 Status: OK PackageFile: rexposome_1.32.0.tar.gz PackageFileSize: 8.076 MiB